BEGIN:VCALENDAR
VERSION:2.0
PRODID:-//Gryftkin - ECPv6.15.20//NONSGML v1.0//EN
CALSCALE:GREGORIAN
METHOD:PUBLISH
X-WR-CALNAME:Gryftkin
X-ORIGINAL-URL:https://gryftkin.com
X-WR-CALDESC:Events for Gryftkin
REFRESH-INTERVAL;VALUE=DURATION:PT1H
X-Robots-Tag:noindex
X-PUBLISHED-TTL:PT1H
BEGIN:VTIMEZONE
TZID:America/North_Dakota/Center
BEGIN:DAYLIGHT
TZOFFSETFROM:-0600
TZOFFSETTO:-0500
TZNAME:CDT
DTSTART:20250309T080000
END:DAYLIGHT
BEGIN:STANDARD
TZOFFSETFROM:-0500
TZOFFSETTO:-0600
TZNAME:CST
DTSTART:20251102T070000
END:STANDARD
BEGIN:DAYLIGHT
TZOFFSETFROM:-0600
TZOFFSETTO:-0500
TZNAME:CDT
DTSTART:20260308T080000
END:DAYLIGHT
BEGIN:STANDARD
TZOFFSETFROM:-0500
TZOFFSETTO:-0600
TZNAME:CST
DTSTART:20261101T070000
END:STANDARD
BEGIN:DAYLIGHT
TZOFFSETFROM:-0600
TZOFFSETTO:-0500
TZNAME:CDT
DTSTART:20270314T080000
END:DAYLIGHT
BEGIN:STANDARD
TZOFFSETFROM:-0500
TZOFFSETTO:-0600
TZNAME:CST
DTSTART:20271107T070000
END:STANDARD
END:VTIMEZONE
BEGIN:VEVENT
DTSTART;TZID=America/North_Dakota/Center:20260420T190000
DTEND;TZID=America/North_Dakota/Center:20260420T200000
DTSTAMP:20260420T045044
CREATED:20260312T175803Z
LAST-MODIFIED:20260312T175803Z
UID:750-1776711600-1776715200@gryftkin.com
SUMMARY:Ada Holloway's Had Enough and author Randi Smith is going to tell us why you don't screw with a girl's library 😉
DESCRIPTION:
URL:https://gryftkin.com/event/ada-holloways-had-enough-and-author-randi-smith-is-going-to-tell-us-why-you-dont-screw-with-a-girls-library-%f0%9f%98%89
END:VEVENT
END:VCALENDAR